Package: Rbowtie2 Version: 2.6.0 Command: /home/biocbuild/bbs-3.17-bioc/R/bin/R CMD build --keep-empty-dirs --no-resave-data Rbowtie2 StartedAt: 2023-10-15 18:07:10 -0400 (Sun, 15 Oct 2023) EndedAt: 2023-10-15 18:11:56 -0400 (Sun, 15 Oct 2023) EllapsedTime: 285.9 seconds RetCode: 0 Status: OK PackageFile: Rbowtie2_2.6.0.tar.gz PackageFileSize: 1.711 MiB