Package: Rbowtie Version: 1.40.0 Command: F:\biocbuild\bbs-3.17-bioc\R\bin\R.exe CMD INSTALL Rbowtie StartedAt: 2023-10-15 15:52:02 -0400 (Sun, 15 Oct 2023) EndedAt: 2023-10-15 15:54:01 -0400 (Sun, 15 Oct 2023) EllapsedTime: 119.4 seconds RetCode: 0 Status: OK