Package: Rbowtie Version: 1.40.0 Command: /home/biocbuild/bbs-3.17-bioc/R/bin/R CMD check --install=check:Rbowtie.install-out.txt --library=/home/biocbuild/bbs-3.17-bioc/R/site-library --timings Rbowtie_1.40.0.tar.gz StartedAt: 2023-10-16 00:15:02 -0400 (Mon, 16 Oct 2023) EndedAt: 2023-10-16 00:15:25 -0400 (Mon, 16 Oct 2023) EllapsedTime: 23.7 seconds RetCode: 0 Status: OK CheckDir: Rbowtie.Rcheck Warnings: 0