Package: Rbowtie Version: 1.40.0 Command: /home/biocbuild/bbs-3.17-bioc/R/bin/R CMD build --keep-empty-dirs --no-resave-data Rbowtie StartedAt: 2023-10-15 18:07:07 -0400 (Sun, 15 Oct 2023) EndedAt: 2023-10-15 18:08:33 -0400 (Sun, 15 Oct 2023) EllapsedTime: 86.0 seconds RetCode: 0 Status: OK PackageFile: Rbowtie_1.40.0.tar.gz PackageFileSize: 903.7 KiB