Package: Rbowtie Version: 1.40.0 Command: /Library/Frameworks/R.framework/Resources/bin/R CMD INSTALL Rbowtie StartedAt: 2023-10-15 15:07:41 -0400 (Sun, 15 Oct 2023) EndedAt: 2023-10-15 15:09:46 -0400 (Sun, 15 Oct 2023) EllapsedTime: 124.7 seconds RetCode: 0 Status: OK