Package: Rbowtie Version: 1.40.0 Command: rm -rf Rbowtie.buildbin-libdir && mkdir Rbowtie.buildbin-libdir && /Users/biocbuild/BBS/utils/build-universal.sh Rbowtie_1.40.0.tar.gz /Library/Frameworks/R.framework/Resources/bin/R Rbowtie.buildbin-libdir StartedAt: 2023-10-16 10:00:27 -0400 (Mon, 16 Oct 2023) EndedAt: 2023-10-16 10:04:52 -0400 (Mon, 16 Oct 2023) EllapsedTime: 265.4 seconds RetCode: 0 Status: OK PackageFile: Rbowtie_1.40.0.tgz PackageFileSize: 1.277 MiB