Package: Rarr Version: 1.0.3 Command: F:\biocbuild\bbs-3.17-bioc\R\bin\R.exe CMD INSTALL Rarr StartedAt: 2023-10-15 16:15:05 -0400 (Sun, 15 Oct 2023) EndedAt: 2023-10-15 16:16:13 -0400 (Sun, 15 Oct 2023) EllapsedTime: 67.5 seconds RetCode: 0 Status: OK