Package: RankProd Version: 3.26.0 Command: /home/biocbuild/bbs-3.17-bioc/R/bin/R CMD INSTALL RankProd StartedAt: 2023-10-15 15:07:43 -0400 (Sun, 15 Oct 2023) EndedAt: 2023-10-15 15:07:58 -0400 (Sun, 15 Oct 2023) EllapsedTime: 14.4 seconds RetCode: 0 Status: OK