Package: RankProd Version: 3.26.0 Command: /home/biocbuild/bbs-3.17-bioc/R/bin/R CMD check --install=check:RankProd.install-out.txt --library=/home/biocbuild/bbs-3.17-bioc/R/site-library --timings RankProd_3.26.0.tar.gz StartedAt: 2023-10-16 00:13:34 -0400 (Mon, 16 Oct 2023) EndedAt: 2023-10-16 00:14:24 -0400 (Mon, 16 Oct 2023) EllapsedTime: 50.4 seconds RetCode: 0 Status: OK CheckDir: RankProd.Rcheck Warnings: 0