Package: RankProd Version: 3.26.0 Command: /home/biocbuild/bbs-3.17-bioc/R/bin/R CMD build --keep-empty-dirs --no-resave-data RankProd StartedAt: 2023-10-15 18:06:14 -0400 (Sun, 15 Oct 2023) EndedAt: 2023-10-15 18:06:27 -0400 (Sun, 15 Oct 2023) EllapsedTime: 12.9 seconds RetCode: 0 Status: OK PackageFile: RankProd_3.26.0.tar.gz PackageFileSize: 649.8 KiB