Package: RankProd Version: 3.26.0 Command: /Library/Frameworks/R.framework/Resources/bin/R CMD INSTALL RankProd StartedAt: 2023-10-15 15:04:31 -0400 (Sun, 15 Oct 2023) EndedAt: 2023-10-15 15:04:52 -0400 (Sun, 15 Oct 2023) EllapsedTime: 21.0 seconds RetCode: 0 Status: OK