Package: RankProd Version: 3.26.0 Command: /Library/Frameworks/R.framework/Resources/bin/R CMD check --install=check:RankProd.install-out.txt --library=/Library/Frameworks/R.framework/Resources/library --no-vignettes --timings RankProd_3.26.0.tar.gz StartedAt: 2023-10-16 05:48:48 -0400 (Mon, 16 Oct 2023) EndedAt: 2023-10-16 05:50:34 -0400 (Mon, 16 Oct 2023) EllapsedTime: 106.4 seconds RetCode: 0 Status: OK CheckDir: RankProd.Rcheck Warnings: 0