Package: RankProd Version: 3.26.0 Command: /Library/Frameworks/R.framework/Resources/bin/R CMD build --keep-empty-dirs --no-resave-data RankProd StartedAt: 2023-10-15 20:31:48 -0400 (Sun, 15 Oct 2023) EndedAt: 2023-10-15 20:32:30 -0400 (Sun, 15 Oct 2023) EllapsedTime: 42.5 seconds RetCode: 0 Status: OK PackageFile: RankProd_3.26.0.tar.gz PackageFileSize: 777.1 KiB