Package: RankProd Version: 3.26.0 Command: rm -rf RankProd.buildbin-libdir && mkdir RankProd.buildbin-libdir && /Users/biocbuild/BBS/utils/build-universal.sh RankProd_3.26.0.tar.gz /Library/Frameworks/R.framework/Resources/bin/R RankProd.buildbin-libdir StartedAt: 2023-10-16 10:00:06 -0400 (Mon, 16 Oct 2023) EndedAt: 2023-10-16 10:00:23 -0400 (Mon, 16 Oct 2023) EllapsedTime: 16.6 seconds RetCode: 0 Status: OK PackageFile: RankProd_3.26.0.tgz PackageFileSize: 877.2 KiB