Package: RaggedExperiment Version: 1.24.2 Command: F:\biocbuild\bbs-3.17-bioc\R\bin\R.exe CMD INSTALL RaggedExperiment StartedAt: 2023-10-15 15:57:04 -0400 (Sun, 15 Oct 2023) EndedAt: 2023-10-15 15:57:33 -0400 (Sun, 15 Oct 2023) EllapsedTime: 29.4 seconds RetCode: 0 Status: OK