Package: RaggedExperiment Version: 1.24.2 Command: chmod a+r RaggedExperiment -R && F:\biocbuild\bbs-3.17-bioc\R\bin\R.exe CMD build --keep-empty-dirs --no-resave-data RaggedExperiment StartedAt: 2023-10-15 21:36:41 -0400 (Sun, 15 Oct 2023) EndedAt: 2023-10-15 21:37:19 -0400 (Sun, 15 Oct 2023) EllapsedTime: 38.0 seconds RetCode: 0 Status: OK PackageFile: RaggedExperiment_1.24.2.tar.gz PackageFileSize: 386.1 KiB