Package: RaggedExperiment Version: 1.24.2 Command: rm -rf RaggedExperiment.buildbin-libdir && mkdir RaggedExperiment.buildbin-libdir && F:\biocbuild\bbs-3.17-bioc\R\bin\R.exe CMD INSTALL --build --library=RaggedExperiment.buildbin-libdir RaggedExperiment_1.24.2.tar.gz StartedAt: 2023-10-16 09:19:51 -0400 (Mon, 16 Oct 2023) EndedAt: 2023-10-16 09:20:25 -0400 (Mon, 16 Oct 2023) EllapsedTime: 34.0 seconds RetCode: 0 Status: OK PackageFile: RaggedExperiment_1.24.2.zip PackageFileSize: 894.4 KiB