Package: RaggedExperiment Version: 1.24.2 Command: /home/biocbuild/bbs-3.17-bioc/R/bin/R CMD check --install=check:RaggedExperiment.install-out.txt --library=/home/biocbuild/bbs-3.17-bioc/R/site-library --timings RaggedExperiment_1.24.2.tar.gz StartedAt: 2023-10-16 00:12:15 -0400 (Mon, 16 Oct 2023) EndedAt: 2023-10-16 00:14:56 -0400 (Mon, 16 Oct 2023) EllapsedTime: 160.7 seconds RetCode: 0 Status: OK CheckDir: RaggedExperiment.Rcheck Warnings: 0