Package: RaggedExperiment Version: 1.24.2 Command: /home/biocbuild/bbs-3.17-bioc/R/bin/R CMD build --keep-empty-dirs --no-resave-data RaggedExperiment StartedAt: 2023-10-15 18:05:38 -0400 (Sun, 15 Oct 2023) EndedAt: 2023-10-15 18:06:10 -0400 (Sun, 15 Oct 2023) EllapsedTime: 32.6 seconds RetCode: 0 Status: OK PackageFile: RaggedExperiment_1.24.2.tar.gz PackageFileSize: 386 KiB