Package: RaggedExperiment Version: 1.24.2 Command: /Library/Frameworks/R.framework/Resources/bin/R CMD check --install=check:RaggedExperiment.install-out.txt --library=/Library/Frameworks/R.framework/Resources/library --no-vignettes --timings RaggedExperiment_1.24.2.tar.gz StartedAt: 2023-10-16 05:46:02 -0400 (Mon, 16 Oct 2023) EndedAt: 2023-10-16 05:52:26 -0400 (Mon, 16 Oct 2023) EllapsedTime: 383.4 seconds RetCode: 0 Status: OK CheckDir: RaggedExperiment.Rcheck Warnings: 0