Package: RaggedExperiment Version: 1.24.2 Command: rm -rf RaggedExperiment.buildbin-libdir && mkdir RaggedExperiment.buildbin-libdir && /Users/biocbuild/BBS/utils/build-universal.sh RaggedExperiment_1.24.2.tar.gz /Library/Frameworks/R.framework/Resources/bin/R RaggedExperiment.buildbin-libdir StartedAt: 2023-10-16 09:59:43 -0400 (Mon, 16 Oct 2023) EndedAt: 2023-10-16 10:01:01 -0400 (Mon, 16 Oct 2023) EllapsedTime: 78.5 seconds RetCode: 0 Status: OK PackageFile: RaggedExperiment_1.24.2.tgz PackageFileSize: 897 KiB