Package: RadioGx Version: 2.4.0 Command: /home/biocbuild/bbs-3.17-bioc/R/bin/R CMD check --install=check:RadioGx.install-out.txt --library=/home/biocbuild/bbs-3.17-bioc/R/site-library --timings RadioGx_2.4.0.tar.gz StartedAt: 2023-10-16 00:12:14 -0400 (Mon, 16 Oct 2023) EndedAt: 2023-10-16 00:16:15 -0400 (Mon, 16 Oct 2023) EllapsedTime: 241.1 seconds RetCode: 0 Status: OK CheckDir: RadioGx.Rcheck Warnings: 0