Package: RVS Version: 1.22.0 Command: /home/biocbuild/bbs-3.17-bioc/R/bin/R CMD INSTALL RVS StartedAt: 2023-10-15 15:38:40 -0400 (Sun, 15 Oct 2023) EndedAt: 2023-10-15 15:38:51 -0400 (Sun, 15 Oct 2023) EllapsedTime: 10.5 seconds RetCode: 0 Status: OK