Package: RVS Version: 1.22.0 Command: /home/biocbuild/bbs-3.17-bioc/R/bin/R CMD check --install=check:RVS.install-out.txt --library=/home/biocbuild/bbs-3.17-bioc/R/site-library --timings RVS_1.22.0.tar.gz StartedAt: 2023-10-16 00:41:26 -0400 (Mon, 16 Oct 2023) EndedAt: 2023-10-16 00:46:35 -0400 (Mon, 16 Oct 2023) EllapsedTime: 308.7 seconds RetCode: 0 Status: OK CheckDir: RVS.Rcheck Warnings: 0