Package: RUVcorr Version: 1.32.0 Command: /Library/Frameworks/R.framework/Resources/bin/R CMD build --keep-empty-dirs --no-resave-data RUVcorr StartedAt: 2023-10-15 20:53:57 -0400 (Sun, 15 Oct 2023) EndedAt: 2023-10-15 20:55:25 -0400 (Sun, 15 Oct 2023) EllapsedTime: 88.1 seconds RetCode: 0 Status: OK PackageFile: RUVcorr_1.32.0.tar.gz PackageFileSize: 508.7 KiB