Package: RUVcorr Version: 1.32.0 Command: rm -rf RUVcorr.buildbin-libdir && mkdir RUVcorr.buildbin-libdir && /Users/biocbuild/BBS/utils/build-universal.sh RUVcorr_1.32.0.tar.gz /Library/Frameworks/R.framework/Resources/bin/R RUVcorr.buildbin-libdir StartedAt: 2023-10-16 10:07:44 -0400 (Mon, 16 Oct 2023) EndedAt: 2023-10-16 10:08:02 -0400 (Mon, 16 Oct 2023) EllapsedTime: 18.4 seconds RetCode: 0 Status: OK PackageFile: RUVcorr_1.32.0.tgz PackageFileSize: 628.5 KiB