git_url: https://git.bioconductor.org/packages/RUVSeq git_branch: RELEASE_3_17 git_last_commit: 743bded git_last_commit_date: 2023-04-25 10:32:33 -0400 (Tue, 25 Apr 2023) Package: RUVSeq Version: 1.34.0 Maintainer: Davide Risso MaintainerEmail: risso.davide at gmail.com