Package: RTopper Version: 1.46.0 Command: F:\biocbuild\bbs-3.17-bioc\R\bin\R.exe CMD check --no-multiarch --install=check:RTopper.install-out.txt --library=F:\biocbuild\bbs-3.17-bioc\R\library --no-vignettes --timings RTopper_1.46.0.tar.gz StartedAt: 2023-10-16 06:17:43 -0400 (Mon, 16 Oct 2023) EndedAt: 2023-10-16 06:18:56 -0400 (Mon, 16 Oct 2023) EllapsedTime: 73.0 seconds RetCode: 0 Status: OK CheckDir: RTopper.Rcheck Warnings: 0