Package: RTopper Version: 1.46.0 Command: /home/biocbuild/bbs-3.17-bioc/R/bin/R CMD INSTALL RTopper StartedAt: 2023-10-15 15:37:49 -0400 (Sun, 15 Oct 2023) EndedAt: 2023-10-15 15:37:57 -0400 (Sun, 15 Oct 2023) EllapsedTime: 7.3 seconds RetCode: 0 Status: OK