Package: RTopper Version: 1.46.0 Command: /Library/Frameworks/R.framework/Resources/bin/R CMD INSTALL RTopper StartedAt: 2023-10-15 16:07:07 -0400 (Sun, 15 Oct 2023) EndedAt: 2023-10-15 16:07:30 -0400 (Sun, 15 Oct 2023) EllapsedTime: 22.9 seconds RetCode: 0 Status: OK