Package: RTNsurvival Version: 1.24.0 Command: rm -rf RTNsurvival.buildbin-libdir && mkdir RTNsurvival.buildbin-libdir && F:\biocbuild\bbs-3.17-bioc\R\bin\R.exe CMD INSTALL --build --library=RTNsurvival.buildbin-libdir RTNsurvival_1.24.0.tar.gz StartedAt: 2023-10-16 09:26:53 -0400 (Mon, 16 Oct 2023) EndedAt: 2023-10-16 09:27:38 -0400 (Mon, 16 Oct 2023) EllapsedTime: 45.3 seconds RetCode: 0 Status: OK PackageFile: RTNsurvival_1.24.0.zip PackageFileSize: 947 KiB