Package: RTNsurvival Version: 1.24.0 Command: /home/biocbuild/bbs-3.17-bioc/R/bin/R CMD INSTALL RTNsurvival StartedAt: 2023-10-15 15:45:37 -0400 (Sun, 15 Oct 2023) EndedAt: 2023-10-15 15:46:08 -0400 (Sun, 15 Oct 2023) EllapsedTime: 30.9 seconds RetCode: 0 Status: OK