Package: RTNsurvival Version: 1.24.0 Command: /Library/Frameworks/R.framework/Resources/bin/R CMD INSTALL RTNsurvival StartedAt: 2023-10-15 16:20:17 -0400 (Sun, 15 Oct 2023) EndedAt: 2023-10-15 16:21:59 -0400 (Sun, 15 Oct 2023) EllapsedTime: 101.4 seconds RetCode: 0 Status: OK