Package: RTNsurvival Version: 1.24.0 Command: /Library/Frameworks/R.framework/Resources/bin/R CMD check --install=check:RTNsurvival.install-out.txt --library=/Library/Frameworks/R.framework/Resources/library --no-vignettes --timings RTNsurvival_1.24.0.tar.gz StartedAt: 2023-10-16 06:28:10 -0400 (Mon, 16 Oct 2023) EndedAt: 2023-10-16 06:36:43 -0400 (Mon, 16 Oct 2023) EllapsedTime: 512.9 seconds RetCode: 0 Status: OK CheckDir: RTNsurvival.Rcheck Warnings: 0