Package: RTNduals Version: 1.24.0 Command: /home/biocbuild/bbs-3.17-bioc/R/bin/R CMD check --install=check:RTNduals.install-out.txt --library=/home/biocbuild/bbs-3.17-bioc/R/site-library --timings RTNduals_1.24.0.tar.gz StartedAt: 2023-10-16 00:39:36 -0400 (Mon, 16 Oct 2023) EndedAt: 2023-10-16 00:46:19 -0400 (Mon, 16 Oct 2023) EllapsedTime: 403.3 seconds RetCode: 0 Status: OK CheckDir: RTNduals.Rcheck Warnings: 0