Package: RTNduals Version: 1.24.0 Command: /home/biocbuild/bbs-3.17-bioc/R/bin/R CMD build --keep-empty-dirs --no-resave-data RTNduals StartedAt: 2023-10-15 18:19:13 -0400 (Sun, 15 Oct 2023) EndedAt: 2023-10-15 18:20:28 -0400 (Sun, 15 Oct 2023) EllapsedTime: 75.0 seconds RetCode: 0 Status: OK PackageFile: RTNduals_1.24.0.tar.gz PackageFileSize: 584.5 KiB