Package: RTNduals Version: 1.24.0 Command: /Library/Frameworks/R.framework/Resources/bin/R CMD INSTALL RTNduals StartedAt: 2023-10-15 16:18:37 -0400 (Sun, 15 Oct 2023) EndedAt: 2023-10-15 16:20:05 -0400 (Sun, 15 Oct 2023) EllapsedTime: 88.1 seconds RetCode: 0 Status: OK