Package: RTNduals Version: 1.24.0 Command: /Library/Frameworks/R.framework/Resources/bin/R CMD check --install=check:RTNduals.install-out.txt --library=/Library/Frameworks/R.framework/Resources/library --no-vignettes --timings RTNduals_1.24.0.tar.gz StartedAt: 2023-10-16 06:27:47 -0400 (Mon, 16 Oct 2023) EndedAt: 2023-10-16 06:43:15 -0400 (Mon, 16 Oct 2023) EllapsedTime: 928.7 seconds RetCode: 0 Status: OK CheckDir: RTNduals.Rcheck Warnings: 0