Package: RTNduals Version: 1.24.0 Command: /Library/Frameworks/R.framework/Resources/bin/R CMD build --keep-empty-dirs --no-resave-data RTNduals StartedAt: 2023-10-15 20:52:54 -0400 (Sun, 15 Oct 2023) EndedAt: 2023-10-15 20:55:56 -0400 (Sun, 15 Oct 2023) EllapsedTime: 182.0 seconds RetCode: 0 Status: OK PackageFile: RTNduals_1.24.0.tar.gz PackageFileSize: 584.4 KiB