Package: RTNduals Version: 1.24.0 Command: rm -rf RTNduals.buildbin-libdir && mkdir RTNduals.buildbin-libdir && /Users/biocbuild/BBS/utils/build-universal.sh RTNduals_1.24.0.tar.gz /Library/Frameworks/R.framework/Resources/bin/R RTNduals.buildbin-libdir StartedAt: 2023-10-16 10:07:14 -0400 (Mon, 16 Oct 2023) EndedAt: 2023-10-16 10:08:53 -0400 (Mon, 16 Oct 2023) EllapsedTime: 99.5 seconds RetCode: 0 Status: OK PackageFile: RTNduals_1.24.0.tgz PackageFileSize: 736.6 KiB