Package: RTN Version: 2.24.0 Command: rm -rf RTN.buildbin-libdir && mkdir RTN.buildbin-libdir && F:\biocbuild\bbs-3.17-bioc\R\bin\R.exe CMD INSTALL --build --library=RTN.buildbin-libdir RTN_2.24.0.tar.gz StartedAt: 2023-10-16 09:26:49 -0400 (Mon, 16 Oct 2023) EndedAt: 2023-10-16 09:27:41 -0400 (Mon, 16 Oct 2023) EllapsedTime: 51.9 seconds RetCode: 0 Status: OK PackageFile: RTN_2.24.0.zip PackageFileSize: 10.51 MiB