Package: RTN Version: 2.24.0 Command: /Library/Frameworks/R.framework/Resources/bin/R CMD check --install=check:RTN.install-out.txt --library=/Library/Frameworks/R.framework/Resources/library --no-vignettes --timings RTN_2.24.0.tar.gz StartedAt: 2023-10-16 06:27:44 -0400 (Mon, 16 Oct 2023) EndedAt: 2023-10-16 06:38:06 -0400 (Mon, 16 Oct 2023) EllapsedTime: 622.1 seconds RetCode: 0 Status: OK CheckDir: RTN.Rcheck Warnings: 0