Package: RTN Version: 2.24.0 Command: /Library/Frameworks/R.framework/Resources/bin/R CMD build --keep-empty-dirs --no-resave-data RTN StartedAt: 2023-10-15 20:52:54 -0400 (Sun, 15 Oct 2023) EndedAt: 2023-10-15 20:58:56 -0400 (Sun, 15 Oct 2023) EllapsedTime: 361.8 seconds RetCode: 0 Status: OK PackageFile: RTN_2.24.0.tar.gz PackageFileSize: 10.53 MiB