Package: RTN Version: 2.24.0 Command: rm -rf RTN.buildbin-libdir && mkdir RTN.buildbin-libdir && /Users/biocbuild/BBS/utils/build-universal.sh RTN_2.24.0.tar.gz /Library/Frameworks/R.framework/Resources/bin/R RTN.buildbin-libdir StartedAt: 2023-10-16 10:07:12 -0400 (Mon, 16 Oct 2023) EndedAt: 2023-10-16 10:09:30 -0400 (Mon, 16 Oct 2023) EllapsedTime: 138.1 seconds RetCode: 0 Status: OK PackageFile: RTN_2.24.0.tgz PackageFileSize: 10.51 MiB