Package: RTCGA Version: 1.30.0 Command: F:\biocbuild\bbs-3.17-bioc\R\bin\R.exe CMD check --no-multiarch --install=check:RTCGA.install-out.txt --library=F:\biocbuild\bbs-3.17-bioc\R\library --no-vignettes --timings RTCGA_1.30.0.tar.gz StartedAt: 2023-10-16 06:17:08 -0400 (Mon, 16 Oct 2023) EndedAt: 2023-10-16 06:19:57 -0400 (Mon, 16 Oct 2023) EllapsedTime: 169.6 seconds RetCode: 0 Status: OK CheckDir: RTCGA.Rcheck Warnings: 0