Package: RTCGA Version: 1.30.0 Command: rm -rf RTCGA.buildbin-libdir && mkdir RTCGA.buildbin-libdir && F:\biocbuild\bbs-3.17-bioc\R\bin\R.exe CMD INSTALL --build --library=RTCGA.buildbin-libdir RTCGA_1.30.0.tar.gz StartedAt: 2023-10-16 09:26:45 -0400 (Mon, 16 Oct 2023) EndedAt: 2023-10-16 09:27:04 -0400 (Mon, 16 Oct 2023) EllapsedTime: 18.9 seconds RetCode: 0 Status: OK PackageFile: RTCGA_1.30.0.zip PackageFileSize: 2.433 MiB