Package: RTCGA Version: 1.30.0 Command: /Library/Frameworks/R.framework/Resources/bin/R CMD check --install=check:RTCGA.install-out.txt --library=/Library/Frameworks/R.framework/Resources/library --no-vignettes --timings RTCGA_1.30.0.tar.gz StartedAt: 2023-10-16 06:26:57 -0400 (Mon, 16 Oct 2023) EndedAt: 2023-10-16 06:32:43 -0400 (Mon, 16 Oct 2023) EllapsedTime: 346.0 seconds RetCode: 0 Status: OK CheckDir: RTCGA.Rcheck Warnings: 0