Package: RSeqAn Version: 1.20.0 Command: F:\biocbuild\bbs-3.17-bioc\R\bin\R.exe CMD check --no-multiarch --install=check:RSeqAn.install-out.txt --library=F:\biocbuild\bbs-3.17-bioc\R\library --no-vignettes --timings RSeqAn_1.20.0.tar.gz StartedAt: 2023-10-16 06:16:18 -0400 (Mon, 16 Oct 2023) EndedAt: 2023-10-16 06:16:46 -0400 (Mon, 16 Oct 2023) EllapsedTime: 28.6 seconds RetCode: 0 Status: WARNINGS CheckDir: RSeqAn.Rcheck Warnings: 1