Package: RSeqAn Version: 1.20.0 Command: chmod a+r RSeqAn -R && F:\biocbuild\bbs-3.17-bioc\R\bin\R.exe CMD build --keep-empty-dirs --no-resave-data RSeqAn StartedAt: 2023-10-15 21:58:12 -0400 (Sun, 15 Oct 2023) EndedAt: 2023-10-15 21:59:00 -0400 (Sun, 15 Oct 2023) EllapsedTime: 48.3 seconds RetCode: 0 Status: OK PackageFile: RSeqAn_1.20.0.tar.gz PackageFileSize: 1.618 MiB