Package: RSeqAn Version: 1.20.0 Command: rm -rf RSeqAn.buildbin-libdir && mkdir RSeqAn.buildbin-libdir && F:\biocbuild\bbs-3.17-bioc\R\bin\R.exe CMD INSTALL --build --library=RSeqAn.buildbin-libdir RSeqAn_1.20.0.tar.gz StartedAt: 2023-10-16 09:26:35 -0400 (Mon, 16 Oct 2023) EndedAt: 2023-10-16 09:26:57 -0400 (Mon, 16 Oct 2023) EllapsedTime: 21.4 seconds RetCode: 0 Status: OK PackageFile: RSeqAn_1.20.0.zip PackageFileSize: 2.507 MiB